BEGIN:VCALENDAR
VERSION:2.0
PRODID:-//ChamberMaster//Event Calendar 2.0//EN
METHOD:PUBLISH
X-PUBLISHED-TTL:P3D
REFRESH-INTERVAL:P3D
CALSCALE:GREGORIAN
BEGIN:VEVENT
DTSTART:20251114T013000Z
DTEND:20251114T030000Z
X-MICROSOFT-CDO-ALLDAYEVENT:FALSE
SUMMARY:100 Women Strong Meeting
DESCRIPTION:BRING A NON-PERISHABLE ITEM FOR THE FOOD BANK!\n\nEXTRA TICKETS FOR RAFFLE:  WEAR FALL COLORS\, BRING A FRIEND & IF THAT FRIEND SIGNS UP YOU GET AN EXTRA TICKETS!
X-ALT-DESC;FMTTYPE=text/html:<strong><span style="color:#FF0000\;">BRING A NON-PERISHABLE ITEM FOR THE FOOD BANK!<br />\nEXTRA TICKETS FOR RAFFLE:&nbsp\; WEAR FALL COLORS\, BRING A FRIEND &amp\; IF THAT FRIEND SIGNS UP YOU GET AN EXTRA TICKETS!</span></strong>
LOCATION:Lake Event Design and Party Rentals Center 1855 South Main Street Lakeport
UID:e.2411.20256
SEQUENCE:3
DTSTAMP:20260421T085231Z
URL:https://support.lakecochamber.com/events/details/100-women-strong-meeting-11-13-2025-20256
END:VEVENT

END:VCALENDAR
