BEGIN:VCALENDAR
VERSION:2.0
PRODID:-//ChamberMaster//Event Calendar 2.0//EN
METHOD:PUBLISH
X-PUBLISHED-TTL:P3D
REFRESH-INTERVAL:P3D
CALSCALE:GREGORIAN
BEGIN:VEVENT
DTSTART:20251211T180000Z
DTEND:20251211T223000Z
X-MICROSOFT-CDO-ALLDAYEVENT:FALSE
SUMMARY:20th Annual Bucket Brigade Challenge
DESCRIPTION:Support your local fire department in boosting holiday blood donations! Twenty fire departments across Sonoma\, Lake and Mendocino counties are joining forces with Vitalant for the 20th Annual Bucket Brigade Blood Drive Challenge\, a friendly competition to see which department can rally the most blood donors this December and January. Blood donations typically drop more than 20% during the holiday season\, with the last two weeks of December historically being the slowest donation period of the year. Yet the need for blood remains constant. Patients do not get to take a vacation from needing lifesaving blood. That's why the support of our local fire departments is so vital with their outreach inspiring community members to step up and donate during a time when the blood supply is at its most vulnerable. Share the honor of saving lives by visiting vitalant.org/bucket brigade today to schedule your lifesaving appointment All Donors receive a special Bucket Brigade T-shirt as our Thank you!
X-ALT-DESC;FMTTYPE=text/html:Support your local fire department in boosting holiday blood donations! Twenty fire departments across Sonoma\, Lake and Mendocino counties are joining forces with Vitalant for the 20th Annual Bucket Brigade Blood Drive Challenge\, a friendly competition to see which department can rally the most blood donors this December and January. Blood donations typically drop more than 20% during the holiday season\, with the last two weeks of December historically being the slowest donation period of the year. Yet the need for blood remains constant. Patients do not get to take a vacation from needing lifesaving blood. That&rsquo\;s why the support of our local fire departments is so vital with their outreach inspiring community members to step up and donate during a time when the blood supply is at its most vulnerable. Share the honor of saving lives by visiting vitalant.org/bucket brigade today to schedule your lifesaving appointment All Donors receive a special Bucket Brigade T-shirt as our Thank you!
LOCATION:Lakeport Fire Department 445 N Main Street Lakeport\, CA 95453 Please check out their website! More information for you there!
UID:e.2411.20262
SEQUENCE:3
DTSTAMP:20260421T101835Z
URL:https://support.lakecochamber.com/events/details/20th-annual-bucket-brigade-challenge-20262
END:VEVENT

END:VCALENDAR
