BEGIN:VCALENDAR
VERSION:2.0
PRODID:-//ChamberMaster//Event Calendar 2.0//EN
METHOD:PUBLISH
X-PUBLISHED-TTL:P3D
REFRESH-INTERVAL:P3D
CALSCALE:GREGORIAN
BEGIN:VEVENT
DTSTART:20171128T023000Z
DTEND:20171128T050000Z
X-MICROSOFT-CDO-ALLDAYEVENT:FALSE
SUMMARY:24th Street Wailers at Blue Wing Monday Blues
DESCRIPTION:Local\, Bay Area\, and touring blues bands perform at the Blue Wing at dinner time each Monday evening. It's great food in a lively and danceable atmosphere. There's no cover but reservations are suggested\, either inside with the band or out in the garden or on our heated veranda. Call (707) 275-2233 for reservations.\n\n\n\nTonight we feature an award-winning touring band from Toronto called the 24th Street Wailers.
X-ALT-DESC;FMTTYPE=text/html:Local\, Bay Area\, and touring blues bands perform at the Blue Wing at dinner time each Monday evening. It&rsquo\;s great food in a lively and danceable atmosphere. There&rsquo\;s no cover but reservations are suggested\, either inside with the band or out in the garden or on our heated veranda. Call (707) 275-2233 for reservations.<br />\n<br />\nTonight we feature an award-winning touring band from Toronto called the 24th Street Wailers.
LOCATION:Blue Wing Saloon and Restaurant 9520 Main Street Upper Lake\, CA 95485
UID:e.2411.3504
SEQUENCE:3
DTSTAMP:20260424T061102Z
URL:https://support.lakecochamber.com/events/details/24th-street-wailers-at-blue-wing-monday-blues-3504
END:VEVENT

END:VCALENDAR
