BEGIN:VCALENDAR
VERSION:2.0
PRODID:-//ChamberMaster//Event Calendar 2.0//EN
METHOD:PUBLISH
X-PUBLISHED-TTL:P3D
REFRESH-INTERVAL:P3D
CALSCALE:GREGORIAN
BEGIN:VEVENT
DTSTART:20220618T170000Z
DTEND:20220619T050000Z
X-MICROSOFT-CDO-ALLDAYEVENT:FALSE
SUMMARY:61st Annual Middletown Days
DESCRIPTION:Parade\, BBQ & Playday\, Cornhole Tourney\, Line Dancing\, and dancing under the stars with Breaker One 9.
X-ALT-DESC;FMTTYPE=text/html:Parade\, BBQ &amp\; Playday\, Cornhole Tourney\, Line Dancing\, and dancing under the stars with Breaker One 9.
LOCATION:Central Park Rd Middletown
UID:e.2411.15138
SEQUENCE:3
DTSTAMP:20260424T023023Z
URL:https://support.lakecochamber.com/events/details/61st-annual-middletown-days-15138
END:VEVENT

END:VCALENDAR
