BEGIN:VCALENDAR
VERSION:2.0
PRODID:-//ChamberMaster//Event Calendar 2.0//EN
METHOD:PUBLISH
X-PUBLISHED-TTL:P3D
REFRESH-INTERVAL:P3D
CALSCALE:GREGORIAN
BEGIN:VEVENT
DTSTART:20161023T010000Z
DTEND:20161023T043000Z
X-MICROSOFT-CDO-ALLDAYEVENT:FALSE
SUMMARY:8th Annual Live & Give Gala
DESCRIPTION:The Lake County International Charter School (LCICS) is celebrating the beginning of our 12th year of operation with our largest fundraising event of the year! The 8th Annual Live & Give Celebration and Auction's theme is GYPSIES\, TRAMPS AND THIEVES. Come enjoy an exciting evening: live music by Buck-Thrifty\, dance performers\, card readers\, theme-inspired appetizers\, complimentary first glass of wine or beer\, and live and silent auctions. If you are 21 & over\, you will not want to miss this!
X-ALT-DESC;FMTTYPE=text/html:The Lake County International Charter School (LCICS) is celebrating the beginning of our 12th year of operation with our largest fundraising event of the year! The 8th Annual Live &amp\; Give Celebration and Auction&#39\;s theme is GYPSIES\, TRAMPS AND THIEVES. Come enjoy an exciting evening: live music by Buck-Thrifty\, dance performers\, card readers\, theme-inspired appetizers\, complimentary first glass of wine or beer\, and live and silent auctions. If you are 21 &amp\; over\, you will not want to miss this!
LOCATION:Middletown Art Center 21456 State Hwy 175 (@29) Middletown\, CA
UID:e.2411.1900
SEQUENCE:3
DTSTAMP:20260425T002028Z
URL:https://support.lakecochamber.com/events/details/8th-annual-live-give-gala-1900
END:VEVENT

END:VCALENDAR
