BEGIN:VCALENDAR
VERSION:2.0
PRODID:-//ChamberMaster//Event Calendar 2.0//EN
METHOD:PUBLISH
X-PUBLISHED-TTL:P3D
REFRESH-INTERVAL:P3D
CALSCALE:GREGORIAN
BEGIN:VEVENT
DTSTART:20220506T000000Z
DTEND:20220506T030000Z
X-MICROSOFT-CDO-ALLDAYEVENT:FALSE
SUMMARY:A Mexican Party at: Cabo's
DESCRIPTION:This is a Mexican Party at: Cabo's Restaurant\, to Celebrate Cinco de Mayo.
X-ALT-DESC;FMTTYPE=text/html:This is a Mexican Party at: Cabo&#39\;s Restaurant\, to Celebrate Cinco de Mayo.
LOCATION:14868 Olympic Drive\, Clearlake\, CA 95422
UID:e.2411.14434
SEQUENCE:3
DTSTAMP:20260424T192357Z
URL:https://support.lakecochamber.com/events/details/a-mexican-party-at-cabo-s-14434
END:VEVENT

END:VCALENDAR
