BEGIN:VCALENDAR
VERSION:2.0
PRODID:-//ChamberMaster//Event Calendar 2.0//EN
METHOD:PUBLISH
X-PUBLISHED-TTL:P3D
REFRESH-INTERVAL:P3D
CALSCALE:GREGORIAN
BEGIN:VEVENT
DTSTART:20190611T200000Z
DTEND:20190611T230000Z
X-MICROSOFT-CDO-ALLDAYEVENT:FALSE
SUMMARY:A Star Is Born
DESCRIPTION:The 1954 musical drama\, "A Star Is Born\," stars Judy Garland and James Mason. Directed by George Cukor with score by Harold Arlen and Ira Gershwin\, this is a film of grand scope and intimate moments\, featuring what most critics believe to be Garland's greatest performance. It's a dark\, weighty fable of the price one pays to be at the top\, a theme that is given ironic significance by what would become Garland's own real life experiences. Nominated for six Academy Awards. Donations accepted at the door.
X-ALT-DESC;FMTTYPE=text/html:The 1954 musical drama\, &ldquo\;A Star Is Born\,&rdquo\; stars Judy Garland and James Mason. Directed by George Cukor with score by Harold Arlen and Ira Gershwin\, this is a film of grand scope and intimate moments\, featuring what most critics believe to be Garland&#39\;s greatest performance. It&rsquo\;s a dark\, weighty fable of the price one pays to be at the top\, a theme that is given ironic significance by what would become Garland&rsquo\;s own real life experiences. Nominated for six Academy Awards. Donations accepted at the door.
LOCATION:Soper Reese Theatre
UID:e.2411.6887
SEQUENCE:3
DTSTAMP:20260425T104912Z
URL:https://support.lakecochamber.com/events/details/a-star-is-born-6887
END:VEVENT

END:VCALENDAR
