BEGIN:VCALENDAR
VERSION:2.0
PRODID:-//ChamberMaster//Event Calendar 2.0//EN
METHOD:PUBLISH
X-PUBLISHED-TTL:P3D
REFRESH-INTERVAL:P3D
CALSCALE:GREGORIAN
BEGIN:VEVENT
DTSTART:20220421T003000Z
DTEND:20220421T023000Z
X-MICROSOFT-CDO-ALLDAYEVENT:FALSE
SUMMARY:April Chamber Mixer
DESCRIPTION:Join us for our April Mixer at Reese Ranch Retreat in Witter Spring.\n\nTake a load off and network with your fellow Chamber members along with the goats\, chickens\, horses\, and ZEBRA!\n\nHors D' oeuvres and beer and No Host  Bar (beer & wine) will be served.\n\nSpeaker TBA.\n\nNon members can RSVP by calling 707 263-5092.
X-ALT-DESC;FMTTYPE=text/html:Join us for our April Mixer at Reese Ranch Retreat in Witter Spring.<br />\nTake a load off and network with your fellow Chamber members along with the goats\, chickens\, horses\, and ZEBRA!<br />\nHors D&#39\; oeuvres and beer and No Host&nbsp\; Bar (beer &amp\; wine) will be served.<br />\nSpeaker TBA.<br />\nNon members can RSVP by calling 707 263-5092.
LOCATION:Reese Ranch Retreat 10528 Witter Springs Rd in Witter Springs
UID:e.2411.14362
SEQUENCE:3
DTSTAMP:20260425T121638Z
URL:https://support.lakecochamber.com/events/details/april-chamber-mixer-14362
END:VEVENT

END:VCALENDAR
