BEGIN:VCALENDAR
VERSION:2.0
PRODID:-//ChamberMaster//Event Calendar 2.0//EN
METHOD:PUBLISH
X-PUBLISHED-TTL:P3D
REFRESH-INTERVAL:P3D
CALSCALE:GREGORIAN
BEGIN:VEVENT
DTSTART:20230627T170000Z
DTEND:20230627T193000Z
X-MICROSOFT-CDO-ALLDAYEVENT:FALSE
SUMMARY:Art Camp- DESIGNER TEA TOWELS
DESCRIPTION:Summer Youth Art Camp- DESIGNER TEA TOWELS with Stephanie Del Bosco Using bright\, colorful Sharpie markers\, draw your own special design on cotton four sack material to create a tea towel to use or display Ages 7- Adult $15
X-ALT-DESC;FMTTYPE=text/html:Summer Youth Art Camp- DESIGNER TEA TOWELS with Stephanie Del Bosco Using bright\, colorful Sharpie markers\, draw your own special design on cotton four sack material to create a tea towel to use or display Ages 7- Adult $15
LOCATION:325 N. Main Street\, Lakeport\, CA 95453
UID:e.2411.18005
SEQUENCE:3
DTSTAMP:20260426T042103Z
URL:https://support.lakecochamber.com/events/details/art-camp-designer-tea-towels-18005
END:VEVENT

END:VCALENDAR
