BEGIN:VCALENDAR
VERSION:2.0
PRODID:-//ChamberMaster//Event Calendar 2.0//EN
METHOD:PUBLISH
X-PUBLISHED-TTL:P3D
REFRESH-INTERVAL:P3D
CALSCALE:GREGORIAN
BEGIN:VEVENT
DTSTART:20230623T170000Z
DTEND:20230623T193000Z
X-MICROSOFT-CDO-ALLDAYEVENT:FALSE
SUMMARY:Art Camp- KITTENS ON THE FENCE
DESCRIPTION:Summer Youth Art Camp- KITTENS ON THE FENCE with Diane Stawicki With acrylic paints and an 11 x 14 canvas board\, create your own work of art showcasing curious kittens on a fence. Ages 9- Adult $12
X-ALT-DESC;FMTTYPE=text/html:Summer Youth Art Camp- KITTENS ON THE FENCE with Diane Stawicki With acrylic paints and an 11 x 14 canvas board\, create your own work of art showcasing curious kittens on a fence. Ages 9- Adult $12
LOCATION:325 N. Main Street\, Lakeport\, CA 95453
UID:e.2411.18004
SEQUENCE:3
DTSTAMP:20260425T185144Z
URL:https://support.lakecochamber.com/events/details/art-camp-kittens-on-the-fence-18004
END:VEVENT

END:VCALENDAR
