BEGIN:VCALENDAR
VERSION:2.0
PRODID:-//ChamberMaster//Event Calendar 2.0//EN
METHOD:PUBLISH
X-PUBLISHED-TTL:P3D
REFRESH-INTERVAL:P3D
CALSCALE:GREGORIAN
BEGIN:VEVENT
DTSTART:20230621T170000Z
DTEND:20230621T193000Z
X-MICROSOFT-CDO-ALLDAYEVENT:FALSE
SUMMARY:Art Camp- KOI FISH
DESCRIPTION:Summer Youth Art Camp- KOI FISH with Diana Liebe. Have fun painting a beautiful koi fish image while learning special watercolor techniques. All ages- $15
X-ALT-DESC;FMTTYPE=text/html:Summer Youth Art Camp- KOI FISH with Diana Liebe. Have fun painting a beautiful koi fish image while learning special watercolor techniques. All ages- $15
LOCATION:325 N. Main Street\, Lakeport\, CA 95453
UID:e.2411.18002
SEQUENCE:3
DTSTAMP:20260425T183312Z
URL:https://support.lakecochamber.com/events/details/art-camp-koi-fish-18002
END:VEVENT

END:VCALENDAR
