BEGIN:VCALENDAR
VERSION:2.0
PRODID:-//ChamberMaster//Event Calendar 2.0//EN
METHOD:PUBLISH
X-PUBLISHED-TTL:P3D
REFRESH-INTERVAL:P3D
CALSCALE:GREGORIAN
BEGIN:VEVENT
DTSTART:20230622T170000Z
DTEND:20230622T193000Z
X-MICROSOFT-CDO-ALLDAYEVENT:FALSE
SUMMARY:Art Camp- STARRY NIGHT
DESCRIPTION:Summer Youth Art Camp- STARRY NIGHT with Stephanie Del Bosco Create your own masterpiece modeled after the famous painting by Vincent VAn Gogh using acrylic paints on a 10 x10 canvas board Ages 7- Adult $15
X-ALT-DESC;FMTTYPE=text/html:Summer Youth Art Camp- STARRY NIGHT with Stephanie Del Bosco Create your own masterpiece modeled after the famous painting by Vincent VAn Gogh using acrylic paints on a 10 x10 canvas board Ages 7- Adult $15
LOCATION:325 N. Main Street\, Lakeport\, CA 95453
UID:e.2411.18003
SEQUENCE:3
DTSTAMP:20260425T183353Z
URL:https://support.lakecochamber.com/events/details/art-camp-starry-night-18003
END:VEVENT

END:VCALENDAR
