BEGIN:VCALENDAR
VERSION:2.0
PRODID:-//ChamberMaster//Event Calendar 2.0//EN
METHOD:PUBLISH
X-PUBLISHED-TTL:P3D
REFRESH-INTERVAL:P3D
CALSCALE:GREGORIAN
BEGIN:VEVENT
DTSTART:20220521T210000Z
DTEND:20220522T000000Z
X-MICROSOFT-CDO-ALLDAYEVENT:FALSE
SUMMARY:Auditions for Twelfth Night
DESCRIPTION:Shakespeare at the Lake is once again returning to the stage for a live performance of Twelfth Night. Audition materials can be found at www.laketheatre.org. Cast members will be required to register for THE 200 at Mendocino College. Shakespeare at the Lake is a co-production of Mendocino College and the Lake County Theatre Company. Performance dates are July 30\, 31 and August 5\, 6\, and 7
X-ALT-DESC;FMTTYPE=text/html:Shakespeare at the Lake is once again returning to the stage for a live performance of Twelfth Night. Audition materials can be found at www.laketheatre.org. Cast members will be required to register for THE 200 at Mendocino College. Shakespeare at the Lake is a co-production of Mendocino College and the Lake County Theatre Company. Performance dates are July 30\, 31 and August 5\, 6\, and 7
LOCATION:Mendocino College Lake Center
UID:e.2411.14292
SEQUENCE:3
DTSTAMP:20260424T193352Z
URL:https://support.lakecochamber.com/events/details/auditions-for-twelfth-night-05-21-2022-14292
END:VEVENT

END:VCALENDAR
