BEGIN:VCALENDAR
VERSION:2.0
PRODID:-//ChamberMaster//Event Calendar 2.0//EN
METHOD:PUBLISH
X-PUBLISHED-TTL:P3D
REFRESH-INTERVAL:P3D
CALSCALE:GREGORIAN
BEGIN:VEVENT
DTSTART:20220401T180000Z
DTEND:20220401T223000Z
X-MICROSOFT-CDO-ALLDAYEVENT:FALSE
SUMMARY:Blood Drive
DESCRIPTION:Blood Drive - Donate Blood
X-ALT-DESC;FMTTYPE=text/html:Blood Drive - Donate Blood
LOCATION:United Christian Parish 745 N. Brush St. Lakeport\, CA
UID:e.2411.14049
SEQUENCE:3
DTSTAMP:20260423T182352Z
URL:https://support.lakecochamber.com/events/details/blood-drive-04-01-2022-14049
END:VEVENT

END:VCALENDAR
