BEGIN:VCALENDAR
VERSION:2.0
PRODID:-//ChamberMaster//Event Calendar 2.0//EN
METHOD:PUBLISH
X-PUBLISHED-TTL:P3D
REFRESH-INTERVAL:P3D
CALSCALE:GREGORIAN
BEGIN:VEVENT
DTSTART:20201020T170000Z
DTEND:20201020T221500Z
X-MICROSOFT-CDO-ALLDAYEVENT:FALSE
SUMMARY:Blood Drive
DESCRIPTION:Vitalant exists to make a difference in people's lives by bringing together the best people\, inspiring individuals to donate blood\, producing a safe and ample blood supply\, advancing cutting-edge research and embracing continuous quality improvement..\n\nVitalant will be in Lake County for a community blood drive. Give Blood\, Save a Life!\n\nFor more information call 877.258.4825 or visit vitalant.org\n\nMake an appointment\, visit bloodheroes.com\, click "Locate a Blood Drive" and enter sponsor code: Lakeport
X-ALT-DESC;FMTTYPE=text/html:<span style="font-size: 14px\;"><span style="font-family: arial\;"><span style="color: rgb(28\, 30\, 33)\;">Vitalant exists to make a difference in people&rsquo\;s lives by bringing together the best people\, inspiring individuals to donate blood\, producing a safe and ample blood supply\, advancing cutting-edge research and embracing continuous quality improvement..</span><br />\nVitalant will be in Lake County for a community blood drive. Give Blood\, Save a Life!<br />\nFor more information call&nbsp\;</span></span><span style="font-family: arial\; font-size: 14px\;">877.258.4825 or visit vitalant.org</span><br />\n<span style="font-size: 14px\;"><span style="font-family: arial\;">Make an appointment\, visit bloodheroes.com\, click &quot\;Locate a Blood Drive&quot\; and enter sponsor code:&nbsp\;<strong>Lakeport</strong></span></span>
LOCATION:Community Center 500 Main Street Lakeport
UID:e.2411.11036
SEQUENCE:3
DTSTAMP:20260421T113242Z
URL:https://support.lakecochamber.com/events/details/blood-drive-11036
END:VEVENT

END:VCALENDAR
