BEGIN:VCALENDAR
VERSION:2.0
PRODID:-//ChamberMaster//Event Calendar 2.0//EN
METHOD:PUBLISH
X-PUBLISHED-TTL:P3D
REFRESH-INTERVAL:P3D
CALSCALE:GREGORIAN
BEGIN:VEVENT
DTSTART:20190729T010000Z
DTEND:20190729T030000Z
X-MICROSOFT-CDO-ALLDAYEVENT:FALSE
SUMMARY:Blue Wing Tuesday Supper with the "Majide" Trio
DESCRIPTION:Enjoy a relaxing Sunday supper with elegant light jazz background music from 6:00 to 8:00 performed by MAJIDE\,\, the trio of PAUL KEMP on keyboards\, PIERRE ARCHAIN on bass and vocalist MACHIKO SHIMADA.  They play in the restaurant\, but out on the Hotel veranda in warm weather.\n\nIn addition to the regular menu\, we offer a $25 "prix fixe" three-course special dinner on Sunday evenings.  All this makes a great Sunday evening out at a reasonable price.
X-ALT-DESC;FMTTYPE=text/html:<span style="color:rgb(66\, 66\, 66)\; font-family:ubuntu\; font-size:15px">Enjoy a relaxing Sunday supper with elegant light jazz background&nbsp\;</span><span style="color:rgb(66\, 66\, 66)\; font-family:ubuntu\; font-size:15px">music</span><span style="color:rgb(66\, 66\, 66)\; font-family:ubuntu\; font-size:15px">&nbsp\;from 6:00 to 8:00 performed by&nbsp\;</span><em>MAJIDE\,\,&nbsp\;</em><span style="color:rgb(66\, 66\, 66)\; font-family:ubuntu\; font-size:15px">the trio of PAUL KEMP on keyboards\, PIERRE ARCHAIN on bass and vocalist MACHIKO SHIMADA.&nbsp\; They play in the restaurant\, but out on the Hotel veranda in warm weather.<br />\nIn addition to the regular menu\, we offer a $25 &ldquo\;prix fixe&rdquo\; three-course special dinner on Sunday evenings.&nbsp\; All this makes a great Sunday evening out at a reasonable price.</span>
LOCATION:Blue Wing Restaurant 9520 Main St Upper Lake
UID:e.2411.7097
SEQUENCE:3
DTSTAMP:20260424T090002Z
URL:https://support.lakecochamber.com/events/details/blue-wing-tuesday-supper-with-the-majide-trio-07-28-2019-7097
END:VEVENT

END:VCALENDAR
