BEGIN:VCALENDAR
VERSION:2.0
PRODID:-//ChamberMaster//Event Calendar 2.0//EN
METHOD:PUBLISH
X-PUBLISHED-TTL:P3D
REFRESH-INTERVAL:P3D
CALSCALE:GREGORIAN
BEGIN:VEVENT
DTSTART:20180814T013000Z
DTEND:20180814T040000Z
X-MICROSOFT-CDO-ALLDAYEVENT:FALSE
SUMMARY:Blues Farm at Blue Wing Monday Blues
DESCRIPTION:Local\, Bay Area\, and touring blues bands perform at the Blue Wing from 6:30 to 9:00 each Monday evening. It's great food in a lively and danceable atmosphere. There's no cover but reservations are suggested\, either inside with the music or out in the garden or on our heated veranda. Tonight we feature blues harp great Dave Broida and his band\, Blues Farm.
X-ALT-DESC;FMTTYPE=text/html:Local\, Bay Area\, and touring blues bands perform at the Blue Wing from 6:30 to 9:00 each Monday evening. It&rsquo\;s great food in a lively and danceable atmosphere. There&rsquo\;s no cover but reservations are suggested\, either inside with the music or out in the garden or on our heated veranda. Tonight we feature blues harp great Dave Broida and his band\, Blues Farm.
LOCATION:Blue Wing Restaurant
UID:e.2411.5651
SEQUENCE:3
DTSTAMP:20260423T182526Z
URL:https://support.lakecochamber.com/events/details/blues-farm-at-blue-wing-monday-blues-08-13-2018-5651
END:VEVENT

END:VCALENDAR
