BEGIN:VCALENDAR
VERSION:2.0
PRODID:-//ChamberMaster//Event Calendar 2.0//EN
METHOD:PUBLISH
X-PUBLISHED-TTL:P3D
REFRESH-INTERVAL:P3D
CALSCALE:GREGORIAN
BEGIN:VEVENT
DTSTART:20241005T190000Z
DTEND:20241005T210000Z
X-MICROSOFT-CDO-ALLDAYEVENT:FALSE
SUMMARY:Borax: Make and take home SLIME and learn about Lake County's Borax mines
DESCRIPTION:Borax: Make and take-home SLIME and learn about Lake County's Borax mines.
X-ALT-DESC;FMTTYPE=text/html:Borax: Make and take-home SLIME and learn about Lake County&#39\;s Borax mines.
LOCATION:Courthouse Museum 225 North Main Street Lakeport\, CA
UID:e.2411.19794
SEQUENCE:3
DTSTAMP:20260424T213449Z
URL:https://support.lakecochamber.com/events/details/borax-make-and-take-home-slime-and-learn-about-lake-county-s-borax-mines-19794
END:VEVENT

END:VCALENDAR
