BEGIN:VCALENDAR
VERSION:2.0
PRODID:-//ChamberMaster//Event Calendar 2.0//EN
METHOD:PUBLISH
X-PUBLISHED-TTL:P3D
REFRESH-INTERVAL:P3D
CALSCALE:GREGORIAN
BEGIN:VEVENT
DTSTART:20191224T170000Z
DTEND:20191224T220000Z
X-MICROSOFT-CDO-ALLDAYEVENT:FALSE
SUMMARY:BRUNCH WITH SANTA
DESCRIPTION:BUFFET BRUNCH Assorted Pastries & Muffins Country Style Biscuits and Sausage Gravy   Bacon Country Potatoes   Vegetables Sausage Links AND MORE! CARVING STATION Spiral Honey Ham EGG STATION Eggs any style   Omelets to order Eggs Benedict DESSERTS Assorted Housemade Desserts Reservations Requested
X-ALT-DESC;FMTTYPE=text/html:BUFFET BRUNCH Assorted Pastries &amp\; Muffins Country Style Biscuits and Sausage Gravy &bull\; Bacon Country Potatoes &bull\; Vegetables Sausage Links AND MORE! CARVING STATION Spiral Honey Ham EGG STATION Eggs any style &bull\; Omelets to order Eggs Benedict DESSERTS Assorted Housemade Desserts Reservations Requested
LOCATION:Greenview Restaurant 19210 Hartmann Road Hidden Valley Lake\, CA
UID:e.2411.8582
SEQUENCE:3
DTSTAMP:20260422T203917Z
URL:https://support.lakecochamber.com/events/details/brunch-with-santa-8582
END:VEVENT

END:VCALENDAR
