BEGIN:VCALENDAR
VERSION:2.0
PRODID:-//ChamberMaster//Event Calendar 2.0//EN
METHOD:PUBLISH
X-PUBLISHED-TTL:P3D
REFRESH-INTERVAL:P3D
CALSCALE:GREGORIAN
BEGIN:VEVENT
DTSTART:20260117T200000Z
DTEND:20260117T200000Z
X-MICROSOFT-CDO-ALLDAYEVENT:FALSE
SUMMARY:Burgers and Bubbles feat Lake County's Exotic Surf Lounge Band
DESCRIPTION:Sip on 2022 Sparkling Rose while enjoying Burgers and live music by Lake County's Exotic Surf Lounge Band. Tickets include 1 glass of Sparkling Rose\, an appetizer\, ranch beef burger\, salad and small dessert. $50/non-member and $40/member
X-ALT-DESC;FMTTYPE=text/html:Sip on 2022 Sparkling Rose while enjoying Burgers and live music by Lake County&#39\;s Exotic Surf Lounge Band. Tickets include 1 glass of Sparkling Rose\, an appetizer\, ranch beef burger\, salad and small dessert. $50/non-member and $40/member
LOCATION:13372 Spruce Grove Rd Lower Lake\, CA 95457
UID:e.2411.20288
SEQUENCE:3
DTSTAMP:20260421T120934Z
URL:https://support.lakecochamber.com/events/details/burgers-and-bubbles-feat-lake-county-s-exotic-surf-lounge-band-20288
END:VEVENT

END:VCALENDAR
