BEGIN:VCALENDAR
VERSION:2.0
PRODID:-//ChamberMaster//Event Calendar 2.0//EN
METHOD:PUBLISH
X-PUBLISHED-TTL:P3D
REFRESH-INTERVAL:P3D
CALSCALE:GREGORIAN
BEGIN:VEVENT
DTSTART:20220317T190000Z
DTEND:20220318T000000Z
X-MICROSOFT-CDO-ALLDAYEVENT:FALSE
SUMMARY:Career Workshop at Lakeport Library Park
DESCRIPTION:CareerPoint Lake and Lake County Library present Career Workshops. All job seekers are welcome to attend Redbud Library for a free in-person career workshop. Receive assistance with resume writing and interview preparation.
X-ALT-DESC;FMTTYPE=text/html:CareerPoint Lake and Lake County Library present Career Workshops. All job seekers are welcome to attend Redbud Library for a free in-person career workshop. Receive assistance with resume writing and interview preparation.
LOCATION:Redbud Library
UID:e.2411.14001
SEQUENCE:3
DTSTAMP:20260424T152537Z
URL:https://support.lakecochamber.com/events/details/career-workshop-at-lakeport-library-park-14001
END:VEVENT

END:VCALENDAR
