BEGIN:VCALENDAR
VERSION:2.0
PRODID:-//ChamberMaster//Event Calendar 2.0//EN
METHOD:PUBLISH
X-PUBLISHED-TTL:P3D
REFRESH-INTERVAL:P3D
CALSCALE:GREGORIAN
BEGIN:VEVENT
DTSTART:20180425T010000Z
DTEND:20180425T030000Z
X-MICROSOFT-CDO-ALLDAYEVENT:FALSE
SUMMARY:Carolyn Hawley at Blue Wing $20 Tuesday
DESCRIPTION:Live music is a great complement to our weekly $20 Tuesday fixed price three course meal offered in additional to our regular menu. Special wines are offered at $20 a bottle and $5 a glass. The popular and classical pianist CAROLYN HAWLEY will be playing our 1902 Kimball piano tonight.
X-ALT-DESC;FMTTYPE=text/html:Live music is a great complement to our weekly $20 Tuesday fixed price three course meal offered in additional to our regular menu. Special wines are offered at $20 a bottle and $5 a glass. The popular and classical pianist CAROLYN HAWLEY will be playing our 1902 Kimball piano tonight.
LOCATION:Blue Wing Restaurant 9520 Main St\, Upper Lake
UID:e.2411.3934
SEQUENCE:3
DTSTAMP:20260423T235813Z
URL:https://support.lakecochamber.com/events/details/carolyn-hawley-at-blue-wing-20-tuesday-04-24-2018-3934
END:VEVENT

END:VCALENDAR
