BEGIN:VCALENDAR
VERSION:2.0
PRODID:-//ChamberMaster//Event Calendar 2.0//EN
METHOD:PUBLISH
X-PUBLISHED-TTL:P3D
REFRESH-INTERVAL:P3D
CALSCALE:GREGORIAN
BEGIN:VEVENT
DTSTART:20240717T210000Z
DTEND:20240717T230000Z
X-MICROSOFT-CDO-ALLDAYEVENT:FALSE
SUMMARY:CARS - Free Movie
DESCRIPTION:Lakeport Tire and Auto is excited to announce a special community event: a free screening of the popular animated film "Cars" on Wednesday\, July 17. There will be two showings\, one at 2:00 PM and another at 6:00 PM\, ensuring that families and individuals have the opportunity to attend at a convenient time. The event\, sponsored by Lakeport Tire and Auto\, will be held at the Soper Reese Theater. In addition to free admission\, attendees will be treated to complimentary soda\, popcorn\, and bottled water\, making for a perfect summer movie outing. "Cars\," a beloved film from Pixar Animation Studios\, follows the adventures of Lightning McQueen\, a race car who learns valuable lessons about friendship and humility. The movie's engaging storyline and vibrant animation make it a hit with audiences of all ages.
X-ALT-DESC;FMTTYPE=text/html:Lakeport Tire and Auto is excited to announce a special community event: a free screening of the popular animated film &quot\;Cars&quot\; on Wednesday\, July 17. There will be two showings\, one at 2:00 PM and another at 6:00 PM\, ensuring that families and individuals have the opportunity to attend at a convenient time. The event\, sponsored by Lakeport Tire and Auto\, will be held at the Soper Reese Theater. In addition to free admission\, attendees will be treated to complimentary soda\, popcorn\, and bottled water\, making for a perfect summer movie outing. &quot\;Cars\,&quot\; a beloved film from Pixar Animation Studios\, follows the adventures of Lightning McQueen\, a race car who learns valuable lessons about friendship and humility. The movie&#39\;s engaging storyline and vibrant animation make it a hit with audiences of all ages.
LOCATION:Soper Reese Community Theater
UID:e.2411.19641
SEQUENCE:3
DTSTAMP:20260425T014340Z
URL:https://support.lakecochamber.com/events/details/cars-free-movie-19641
END:VEVENT

END:VCALENDAR
