BEGIN:VCALENDAR
VERSION:2.0
PRODID:-//ChamberMaster//Event Calendar 2.0//EN
METHOD:PUBLISH
X-PUBLISHED-TTL:P3D
REFRESH-INTERVAL:P3D
CALSCALE:GREGORIAN
BEGIN:VEVENT
DTSTART;VALUE=DATE:20220514
DTEND;VALUE=DATE:20220515
TRANSP:TRANSPARENT
X-MICROSOFT-CDO-ALLDAYEVENT:TRUE
SUMMARY:Catfish Derby 2022
DESCRIPTION:Come to Derby Headquarters on Thursday (noon-11PM) or Friday (7AM-11PM) to check in and pick up your registration package before fishing. Derby Headquarters this year is back at the Clearlake Oaks Fire Station\, 12655 E Hwy 20. Online registrations will be accepted through May 10. Registrations after that must be made in-person at Derby Headquarters.
X-ALT-DESC;FMTTYPE=text/html:Come to Derby Headquarters on Thursday (noon-11PM) or Friday (7AM-11PM) to check in and pick up your registration package before fishing. Derby Headquarters this year is back at the Clearlake Oaks Fire Station\, 12655 E Hwy 20. Online registrations will be accepted through May 10. Registrations after that must be made in-person at Derby Headquarters.
LOCATION:Clearlake Oaks Fire Station\, 12655 E Hwy 20
UID:e.2411.13915
SEQUENCE:3
DTSTAMP:20260425T002052Z
URL:https://support.lakecochamber.com/events/details/catfish-derby-2022-05-14-2022-13915
END:VEVENT

END:VCALENDAR
