BEGIN:VCALENDAR
VERSION:2.0
PRODID:-//ChamberMaster//Event Calendar 2.0//EN
METHOD:PUBLISH
X-PUBLISHED-TTL:P3D
REFRESH-INTERVAL:P3D
CALSCALE:GREGORIAN
BEGIN:VEVENT
DTSTART:20220326T180000Z
DTEND:20220327T000000Z
X-MICROSOFT-CDO-ALLDAYEVENT:FALSE
SUMMARY:Chacewater Club Appreciation / Open House
DESCRIPTION:Don't miss out on our Club Member Appreciation Event and Pick Up party is on Saturday\, March 26\, 2022. This is an Open House Event from 11am - 5pm. Tickets for Club Members is $15.00 per person and non Club Members $25.00 per person. MENU SELECTION: *Roasted Strawberry Balsamic-Goat Cheese Bruschetta *Wine Country Chicken Salad with Wonton Crisps *Petite Ham and Brie Sandwiches with Cornichons *And a Sweet Treat ENTERTAINMENT: Austin & Owen The Neo Flamenco Duo will be playing live music at our Member Appreciation Event on March 26\, 2022. They will be playing from 2pm - 4pm. Come and spend the day with us and enjoy the live music\, amazing appetizers and wine tasting. Your March Wine club and olive oil club kits will be ready for pick up as well! Any questions about this event please email kim@chacewaterwine.com or call us at 707-279-2995. Thank you\, Chacewater Team
X-ALT-DESC;FMTTYPE=text/html:Don&#39\;t miss out on our Club Member Appreciation Event and Pick Up party is on Saturday\, March 26\, 2022. This is an Open House Event from 11am - 5pm. Tickets for Club Members is $15.00 per person and non Club Members $25.00 per person. MENU SELECTION: *Roasted Strawberry Balsamic-Goat Cheese Bruschetta *Wine Country Chicken Salad with Wonton Crisps *Petite Ham and Brie Sandwiches with Cornichons *And a Sweet Treat ENTERTAINMENT: Austin &amp\; Owen The Neo Flamenco Duo will be playing live music at our Member Appreciation Event on March 26\, 2022. They will be playing from 2pm - 4pm. Come and spend the day with us and enjoy the live music\, amazing appetizers and wine tasting. Your March Wine club and olive oil club kits will be ready for pick up as well! Any questions about this event please email kim@chacewaterwine.com or call us at 707-279-2995. Thank you\, Chacewater Team
LOCATION:Chacewater Winery & Olive Mill 5625 Gaddy Lane Kelseyville
UID:e.2411.14155
SEQUENCE:3
DTSTAMP:20260424T200502Z
URL:https://support.lakecochamber.com/events/details/chacewater-club-appreciation-open-house-14155
END:VEVENT

END:VCALENDAR
