BEGIN:VCALENDAR
VERSION:2.0
PRODID:-//ChamberMaster//Event Calendar 2.0//EN
METHOD:PUBLISH
X-PUBLISHED-TTL:P3D
REFRESH-INTERVAL:P3D
CALSCALE:GREGORIAN
BEGIN:VEVENT
DTSTART:20230611T000000Z
DTEND:20230611T040000Z
X-MICROSOFT-CDO-ALLDAYEVENT:FALSE
SUMMARY:Chacewater Farm to Lawn
DESCRIPTION:Chacewater Winery and Olive Mill Farm to Lawn Barbeque and Live music Join us on the 20\,000 SF lawn Call Launa to reserve 707-279-2995 or email launa@chacewaterwine.com $ 85
X-ALT-DESC;FMTTYPE=text/html:Chacewater Winery and Olive Mill Farm to Lawn Barbeque and Live music Join us on the 20\,000 SF lawn Call Launa to reserve 707-279-2995 or email launa@chacewaterwine.com $ 85
LOCATION:Chacewater Lawn
UID:e.2411.18011
SEQUENCE:3
DTSTAMP:20260425T183721Z
URL:https://support.lakecochamber.com/events/details/chacewater-farm-to-lawn-18011
END:VEVENT

END:VCALENDAR
