BEGIN:VCALENDAR
VERSION:2.0
PRODID:-//ChamberMaster//Event Calendar 2.0//EN
METHOD:PUBLISH
X-PUBLISHED-TTL:P3D
REFRESH-INTERVAL:P3D
CALSCALE:GREGORIAN
BEGIN:VEVENT
DTSTART:20220616T010000Z
DTEND:20220616T033000Z
X-MICROSOFT-CDO-ALLDAYEVENT:FALSE
SUMMARY:Chacewater Winemaker Dinner in the Blue Wing Garden
DESCRIPTION:Each summer\, the Blue Wing features a series of special ticketed dinners in the garden between the Tallman Hotel and the Restaurant.  Tonight's dinner features the fine wines and olive oils from the CHACEWATER WINERY and olive mill in Kelseyville.  Chef Pablo Aguilar has created a delicious 4 COURSE DINNER featuring fresh-caught California king salmon or buffalo ribeye steak from the J & S Ranch in Ukiah\, all carefully paired with Chacewater wines.\n\nOwner Paul Manuel will be here to talk about his business and to discuss the food and pairings.  Paul Kemp will provide background music on the piano.\n\nTickets at $95 + tax ($85 for Chacewater wine club members) are available online at EVENTBRITE.COM or by calling the Hotel at 707-275-2244 ext. 0.
X-ALT-DESC;FMTTYPE=text/html:<div>\n<p>Each summer\, the Blue Wing features a series of special ticketed dinners in the garden between the Tallman Hotel and the Restaurant.&nbsp\; Tonight&rsquo\;s dinner features the fine wines and olive oils from the <a href="https://chacewaterwine.com/">CHACEWATER WINERY</a> and olive mill in Kelseyville.&nbsp\; Chef Pablo Aguilar has created a delicious <a href="https://tallmanhotel.com/wp-content/uploads/2022/05/Chacewater-Menu-6-15-22.jpg">4 COURSE DINNER</a> featuring fresh-caught California king salmon or buffalo ribeye steak from the J &amp\; S Ranch in Ukiah\, all carefully paired with Chacewater wines.</p>\n\n<p>Owner Paul Manuel will be here to talk about his business and to discuss the food and pairings.&nbsp\; Paul Kemp will provide background music on the piano.</p>\n\n<p>Tickets at $95 + tax ($85 for Chacewater wine club members) are available online at <a href="https://www.eventbrite.com/e/chacewater-winemaker-dinner-tickets-333926602457?aff=erelpanelorg">EVENTBRITE.COM</a> or by calling the Hotel at 707-275-2244 ext. 0.</p>\n</div>\n
LOCATION:
UID:e.2411.14907
SEQUENCE:3
DTSTAMP:20260423T203840Z
URL:https://support.lakecochamber.com/events/details/chacewater-winemaker-dinner-in-the-blue-wing-garden-14907
END:VEVENT

END:VCALENDAR
