BEGIN:VCALENDAR
VERSION:2.0
PRODID:-//ChamberMaster//Event Calendar 2.0//EN
METHOD:PUBLISH
X-PUBLISHED-TTL:P3D
REFRESH-INTERVAL:P3D
CALSCALE:GREGORIAN
BEGIN:VEVENT
DTSTART:20220504T183000Z
DTEND:20220504T203000Z
X-MICROSOFT-CDO-ALLDAYEVENT:FALSE
SUMMARY:Cinco De Mayo Lunch Fundraiser
DESCRIPTION:Support the Alzheimer's Association by joining us for our Cinco De Mayo Celebration. We are setting up a Taco Bar Lunch buffet. Lunch will be served from 11:30am-1:30pm Cost for Lunch will be $5.00 per person. We will also offer drive by pick up for those that can not stay to enjoy the festivities. Come out and show your support and help us raise money for a good cause.
X-ALT-DESC;FMTTYPE=text/html:Support the Alzheimer&#39\;s Association by joining us for our Cinco De Mayo Celebration. We are setting up a Taco Bar Lunch buffet. Lunch will be served from 11:30am-1:30pm Cost for Lunch will be $5.00 per person. We will also offer drive by pick up for those that can not stay to enjoy the festivities. Come out and show your support and help us raise money for a good cause.
LOCATION:1343 S. Dora St Ukiah\, Ca
UID:e.2411.14429
SEQUENCE:3
DTSTAMP:20260424T070632Z
URL:https://support.lakecochamber.com/events/details/cinco-de-mayo-lunch-fundraiser-14429
END:VEVENT

END:VCALENDAR
