BEGIN:VCALENDAR
VERSION:2.0
PRODID:-//ChamberMaster//Event Calendar 2.0//EN
METHOD:PUBLISH
X-PUBLISHED-TTL:P3D
REFRESH-INTERVAL:P3D
CALSCALE:GREGORIAN
BEGIN:VEVENT
DTSTART:20220619T150000Z
DTEND:20220619T180000Z
X-MICROSOFT-CDO-ALLDAYEVENT:FALSE
SUMMARY:Clear Lake Masonic Community Breakfast
DESCRIPTION:Monthly Breakfast Pancakes\, French Toast Eggs\, Omelets Hashbrowns\, Country Potatoes Biscuits & Gravy Fresh Fruit
X-ALT-DESC;FMTTYPE=text/html:Monthly Breakfast Pancakes\, French Toast Eggs\, Omelets Hashbrowns\, Country Potatoes Biscuits &amp\; Gravy Fresh Fruit
LOCATION:Clear Lake Masonic Lodge #183 7100 S. Center Drive Clearlake\, CA 95422 (We are located behind Walmart and Carl's Jr.)
UID:e.2411.14386
SEQUENCE:3
DTSTAMP:20260423T071254Z
URL:https://support.lakecochamber.com/events/details/clear-lake-masonic-community-breakfast-06-19-2022-14386
END:VEVENT

END:VCALENDAR
