BEGIN:VCALENDAR
VERSION:2.0
PRODID:-//ChamberMaster//Event Calendar 2.0//EN
METHOD:PUBLISH
X-PUBLISHED-TTL:P3D
REFRESH-INTERVAL:P3D
CALSCALE:GREGORIAN
BEGIN:VEVENT
DTSTART:20220507T180000Z
DTEND:20220507T210000Z
X-MICROSOFT-CDO-ALLDAYEVENT:FALSE
SUMMARY:Cokkie Decorating Class
DESCRIPTION:Hosted by Better Homes and Gardens Real Estate. Learn how to pipe 4 different Buttercream Flowers on Sugar Cookies.
X-ALT-DESC;FMTTYPE=text/html:Hosted by Better Homes and Gardens Real Estate. Learn how to pipe 4 different Buttercream Flowers on Sugar Cookies.
LOCATION:108 S Main Street Lakeport CA 95453
UID:e.2411.14395
SEQUENCE:3
DTSTAMP:20260424T170921Z
URL:https://support.lakecochamber.com/events/details/cokkie-decorating-class-14395
END:VEVENT

END:VCALENDAR
