BEGIN:VCALENDAR
VERSION:2.0
PRODID:-//ChamberMaster//Event Calendar 2.0//EN
METHOD:PUBLISH
X-PUBLISHED-TTL:P3D
REFRESH-INTERVAL:P3D
CALSCALE:GREGORIAN
BEGIN:VEVENT
DTSTART:20220716T230000Z
DTEND:20220717T030000Z
X-MICROSOFT-CDO-ALLDAYEVENT:FALSE
SUMMARY:Concert on the Field
DESCRIPTION:Music: Breaker One 9\n\nFood: BBQ by Biasotti and Rack N Rolled Ice Cream\n\nKid Zone & More
X-ALT-DESC;FMTTYPE=text/html:Music: Breaker One 9<br />\nFood: BBQ by Biasotti and Rack N Rolled Ice Cream<br />\nKid Zone &amp\; More
LOCATION:Hartmann Baseball Field
UID:e.2411.15159
SEQUENCE:3
DTSTAMP:20260424T154959Z
URL:https://support.lakecochamber.com/events/details/concert-on-the-field-15159
END:VEVENT

END:VCALENDAR
