BEGIN:VCALENDAR
VERSION:2.0
PRODID:-//ChamberMaster//Event Calendar 2.0//EN
METHOD:PUBLISH
X-PUBLISHED-TTL:P3D
REFRESH-INTERVAL:P3D
CALSCALE:GREGORIAN
BEGIN:VEVENT
DTSTART:20180915T000000Z
DTEND:20180915T030000Z
X-MICROSOFT-CDO-ALLDAYEVENT:FALSE
SUMMARY:Concerts on the Green: Psychedellos
DESCRIPTION:Psychedellos is coming to Concerts on the Greens September 14th Concerts are held behind the Greenview Restaurant Friday from 5-8pm. They are Free and open to the public. Band for the September 14 concert will be Psychedellos
X-ALT-DESC;FMTTYPE=text/html:Psychedellos is coming to Concerts on the Greens September 14th Concerts are held behind the Greenview Restaurant Friday from 5-8pm. They are Free and open to the public. Band for the September 14 concert will be Psychedellos
LOCATION:19210 Hartmann Road - behind the Greenview Restaurant\, Hidden Valley Lake
UID:e.2411.6035
SEQUENCE:3
DTSTAMP:20260423T195414Z
URL:https://support.lakecochamber.com/events/details/concerts-on-the-green-psychedellos-09-14-2018-6035
END:VEVENT

END:VCALENDAR
