BEGIN:VCALENDAR
VERSION:2.0
PRODID:-//ChamberMaster//Event Calendar 2.0//EN
METHOD:PUBLISH
X-PUBLISHED-TTL:P3D
REFRESH-INTERVAL:P3D
CALSCALE:GREGORIAN
BEGIN:VEVENT
DTSTART:20191119T200000Z
DTEND:20191119T223000Z
X-MICROSOFT-CDO-ALLDAYEVENT:FALSE
SUMMARY:Container Gardening
DESCRIPTION:The Clear Lake Trowel & Trellis Garden Club will meet November 19th\, 12 Noon. Desserts\, coffee and tea will be provided. The featured speaker will be Gabrielle O'Neill\, Master Gardener. She will be sharing information on "Container Gardening". The club also will be celebrating their successful MUM Show that was held Friday\, November 9th which had a terrific turnout and beautiful arrangements.
X-ALT-DESC;FMTTYPE=text/html:The Clear Lake Trowel &amp\; Trellis Garden Club will meet November 19th\, 12 Noon. Desserts\, coffee and tea will be provided. The featured speaker will be Gabrielle O&#39\;Neill\, Master Gardener. She will be sharing information on &quot\;Container Gardening&quot\;. The club also will be celebrating their successful MUM Show that was held Friday\, November 9th which had a terrific turnout and beautiful arrangements.
LOCATION:Scotts Valley Women's Club House\, 2298 Hendricks Road\, Lakeport
UID:e.2411.8568
SEQUENCE:3
DTSTAMP:20260424T133448Z
URL:https://support.lakecochamber.com/events/details/container-gardening-8568
END:VEVENT

END:VCALENDAR
