BEGIN:VCALENDAR
VERSION:2.0
PRODID:-//ChamberMaster//Event Calendar 2.0//EN
METHOD:PUBLISH
X-PUBLISHED-TTL:P3D
REFRESH-INTERVAL:P3D
CALSCALE:GREGORIAN
BEGIN:VEVENT
DTSTART:20220606T153000Z
DTEND:20220606T193000Z
X-MICROSOFT-CDO-ALLDAYEVENT:FALSE
SUMMARY:CTA Class - Twin Pine Casino
DESCRIPTION:The Certified Tourism Ambassador  (CTA) Program is a nationally recognized certification program for anyone who wants to become an advocate for Lake County. The program teaches best practices and helps front-line workers and volunteers increase their knowledge of Lake County\; provides answers to a variety of questions received from visitors\; and\, provides an excellent opportunity for networking.\n\n\n\nUpon completion of the program\, participants receive a certification (not just training) with accompanying credentials that can be used behind the person's name to denote their commitment to their profession.\n\n\n\nTo register\, go to www.ctanetwork.com
X-ALT-DESC;FMTTYPE=text/html:The Certified Tourism Ambassador&trade\; (CTA) Program is a nationally recognized certification<strong>&nbsp\;program for anyone who wants to become an advocate for Lake County</strong>. The program&nbsp\;<strong>teaches best practices</strong>&nbsp\;and helps front-line workers and volunteers&nbsp\;<strong>increase their knowledge of Lake County</strong>\; provides answers to a variety of questions received from visitors\; and\, provides an excellent opportunity for networking.<br />\n<br />\nUpon completion of the program\, participants receive a certification (not just training) with accompanying credentials that can be used behind the person&#39\;s name to denote their commitment to their profession.<br />\n<br />\n<span style="color: rgb(255\, 0\, 0)\;"><span style="font-size: 18px\;"><strong>To register</strong></span></span>\, go to&nbsp\;<strong>www.ctanetwork.com</strong>
LOCATION:Twin Pine Casino
UID:e.2411.14400
SEQUENCE:3
DTSTAMP:20260423T134447Z
URL:https://support.lakecochamber.com/events/details/cta-class-twin-pine-casino-14400
END:VEVENT

END:VCALENDAR
