BEGIN:VCALENDAR
VERSION:2.0
PRODID:-//ChamberMaster//Event Calendar 2.0//EN
METHOD:PUBLISH
X-PUBLISHED-TTL:P3D
REFRESH-INTERVAL:P3D
CALSCALE:GREGORIAN
BEGIN:VEVENT
DTSTART:20220327T173000Z
DTEND:20220327T210000Z
X-MICROSOFT-CDO-ALLDAYEVENT:FALSE
SUMMARY:David Hawkins Plays at Blue Wing Sunday Brunch
DESCRIPTION:The Blue Wing is open from 12 to 8 PM Thursdays through Mondays with a 10:30 start for Sunday Brunch.  Seating is in the garden in good weather\, out on the heated veranda or at our well-spaced indoor tables.  Reservations can be made online HERE or by calling the restaurant at 707-275-2233. Take-out orders can also be placed by phone or online at the MENU PAGE of the Blue Wing Saloon web site.\n\nLocal musicians play from 6 to 8 PM most evenings and from 11:30 to 2:00 at brunch on Sundays on the Hotel veranda in good weather or inside by the bar otherwise.  Today at brunch we feature the wonderful musician DAVID HAWKINS\, on tour from his base in Ohio.
X-ALT-DESC;FMTTYPE=text/html:<div>\n<p>The Blue Wing is open from 12 to 8 PM Thursdays through Mondays with a 10:30 start for Sunday Brunch.&nbsp\; Seating is in the garden in good weather\, out on the heated veranda or at our well-spaced indoor tables.&nbsp\; Reservations can be made online <a href="https://tallmanhotel.com/blue-wing-saloon/"><strong>HERE</strong></a> or by calling the restaurant at 707-275-2233. Take-out orders can also be placed by phone or online at the <strong><a href="https://tallmanhotel.com/restaurant/food-and-wine-menu/">MENU&nbsp\;</a><a href="https://tallmanhotel.com/restaurant/food-and-wine-menu/">PAGE </a></strong>of the Blue Wing Saloon web site.</p>\n\n<p>Local musicians play from 6 to 8 PM most evenings and from 11:30 to 2:00 at brunch on Sundays on the Hotel veranda in good weather or inside by the bar otherwise.&nbsp\; Today at brunch we feature the wonderful musician DAVID HAWKINS\, on tour from his base in Ohio.</p>\n</div>\n
LOCATION:
UID:e.2411.14287
SEQUENCE:3
DTSTAMP:20260424T083303Z
URL:https://support.lakecochamber.com/events/details/david-hawkins-plays-at-blue-wing-sunday-brunch-14287
END:VEVENT

END:VCALENDAR
