BEGIN:VCALENDAR
VERSION:2.0
PRODID:-//ChamberMaster//Event Calendar 2.0//EN
METHOD:PUBLISH
X-PUBLISHED-TTL:P3D
REFRESH-INTERVAL:P3D
CALSCALE:GREGORIAN
BEGIN:VEVENT
DTSTART:20210228T020000Z
DTEND:20210228T074500Z
X-MICROSOFT-CDO-ALLDAYEVENT:FALSE
SUMMARY:Dirty Cello On Demand
DESCRIPTION:DIRTY CELLO concert now available On Demand through Feb. 28 From Purple Haze to the Orange Blossom Special. Dirty Cello is all high energy fun. This four-member band is perfect for starting up a funky\, electric dance party in the comfort and safety of your own home. Vivacious Rebecca Roudman plays the cello like it was a lead guitar and she sings like a rock star with attitude. Her group has played all over the world putting a highly danceable and original spin on blues and bluegrass.
X-ALT-DESC;FMTTYPE=text/html:DIRTY CELLO concert now available On Demand through Feb. 28 From Purple Haze to the Orange Blossom Special. Dirty Cello is all high energy fun. This four-member band is perfect for starting up a funky\, electric dance party in the comfort and safety of your own home. Vivacious Rebecca Roudman plays the cello like it was a lead guitar and she sings like a rock star with attitude. Her group has played all over the world putting a highly danceable and original spin on blues and bluegrass.
LOCATION:Soper Reese Theatre 275 S. Main St. Lakeport\, CA
UID:e.2411.12740
SEQUENCE:3
DTSTAMP:20260419T182155Z
URL:https://support.lakecochamber.com/events/details/dirty-cello-on-demand-02-27-2021-12740
END:VEVENT

END:VCALENDAR
