BEGIN:VCALENDAR
VERSION:2.0
PRODID:-//ChamberMaster//Event Calendar 2.0//EN
METHOD:PUBLISH
X-PUBLISHED-TTL:P3D
REFRESH-INTERVAL:P3D
CALSCALE:GREGORIAN
BEGIN:VEVENT
DTSTART:20221109T160000Z
DTEND:20221109T170000Z
X-MICROSOFT-CDO-ALLDAYEVENT:FALSE
SUMMARY:E-Board Meeting
DESCRIPTION:E-Board Meeting
X-ALT-DESC;FMTTYPE=text/html:E-Board Meeting
LOCATION:
UID:e.2411.14372
SEQUENCE:3
DTSTAMP:20260425T025836Z
URL:https://support.lakecochamber.com/events/details/e-board-meeting-14372
END:VEVENT

END:VCALENDAR
