BEGIN:VCALENDAR
VERSION:2.0
PRODID:-//ChamberMaster//Event Calendar 2.0//EN
METHOD:PUBLISH
X-PUBLISHED-TTL:P3D
REFRESH-INTERVAL:P3D
CALSCALE:GREGORIAN
BEGIN:VEVENT
DTSTART:20220409T200000Z
DTEND:20220409T220000Z
X-MICROSOFT-CDO-ALLDAYEVENT:FALSE
SUMMARY:Easter Bunny in Lakeport
DESCRIPTION:The Easter Bunny will be visiting the stores in Lakeport! Bring your children and take pictures with the big bunny!
X-ALT-DESC;FMTTYPE=text/html:The Easter Bunny will be visiting the stores in Lakeport! Bring your children and take pictures with the big bunny!&nbsp\;
LOCATION:April 9 Fixin It Up With Sandra 270 N. Main Street\, Lakeport April 16 Kitchen Store and More 568 Lakeport Blvd.\, Lakeport
UID:e.2411.13974
SEQUENCE:3
DTSTAMP:20260425T104513Z
URL:https://support.lakecochamber.com/events/details/easter-bunny-in-lakeport-04-09-2022-13974
END:VEVENT

END:VCALENDAR
