BEGIN:VCALENDAR
VERSION:2.0
PRODID:-//ChamberMaster//Event Calendar 2.0//EN
METHOD:PUBLISH
X-PUBLISHED-TTL:P3D
REFRESH-INTERVAL:P3D
CALSCALE:GREGORIAN
BEGIN:VEVENT
DTSTART:20220416T200000Z
DTEND:20220416T220000Z
X-MICROSOFT-CDO-ALLDAYEVENT:FALSE
SUMMARY:Easter Bunny in Lakeport
DESCRIPTION:The Easter Bunny will be visiting the stores in Lakeport! Bring your children and take pictures with the big bunny! All times are 1:00 pm to 3:00 pm. Here's the schedule: March 26   Business Design Services\, 195 S. Main Street\, Lakeport April 2   Studio 127\, 127 N. Main Street\, Lakeport April 9   Fixin It Up With Sandra   270 N. Main Street\, Lakeport April 16   Kitchen Store and More   568 Lakeport Blvd.\, Lakeport
X-ALT-DESC;FMTTYPE=text/html:The Easter Bunny will be visiting the stores in Lakeport! Bring your children and take pictures with the big bunny! All times are 1:00 pm to 3:00 pm. Here&rsquo\;s the schedule: March 26 &ndash\; Business Design Services\, 195 S. Main Street\, Lakeport April 2 &ndash\; Studio 127\, 127 N. Main Street\, Lakeport April 9 &ndash\; Fixin It Up With Sandra &ndash\; 270 N. Main Street\, Lakeport April 16 &ndash\; Kitchen Store and More &ndash\; 568 Lakeport Blvd.\, Lakeport
LOCATION:March 26 Business Design Services\, 195 S. Main Street\, Lakeport April 2 Studio 127\, 127 N. Main Street\, Lakeport April 9 Fixin It Up With Sandra 270 N. Main Street\, Lakeport April 16 Kitchen Store and More 568 Lakeport Blvd.\, Lakeport
UID:e.2411.13975
SEQUENCE:3
DTSTAMP:20260423T220238Z
URL:https://support.lakecochamber.com/events/details/easter-bunny-in-lakeport-04-16-2022-13975
END:VEVENT

END:VCALENDAR
