BEGIN:VCALENDAR
VERSION:2.0
PRODID:-//ChamberMaster//Event Calendar 2.0//EN
METHOD:PUBLISH
X-PUBLISHED-TTL:P3D
REFRESH-INTERVAL:P3D
CALSCALE:GREGORIAN
BEGIN:VEVENT
DTSTART:20220416T180000Z
DTEND:20220416T210000Z
X-MICROSOFT-CDO-ALLDAYEVENT:FALSE
SUMMARY:Easter Eggstravaganza
DESCRIPTION:Join us for our Annual Easer Eggstravaganza at Twin Pine Casino & Hotel! Pictures with the Easter Bunny Easter Baskets while supplies last\, face painting w/Chayo\, sweet treats from Pink Elephant Concessions\, jumpy houses\, Bunny Lunch\, and More!!
X-ALT-DESC;FMTTYPE=text/html:Join us for our Annual Easer Eggstravaganza at Twin Pine Casino &amp\; Hotel! Pictures with the Easter Bunny Easter Baskets while supplies last\, face painting w/Chayo\, sweet treats from Pink Elephant Concessions\, jumpy houses\, Bunny Lunch\, and More!!
LOCATION:Twin Pine Casino & Hotel 22223 Hwy 29 Middletown\, CA 95461
UID:e.2411.14293
SEQUENCE:3
DTSTAMP:20260423T100407Z
URL:https://support.lakecochamber.com/events/details/easter-eggstravaganza-14293
END:VEVENT

END:VCALENDAR
