BEGIN:VCALENDAR
VERSION:2.0
PRODID:-//ChamberMaster//Event Calendar 2.0//EN
METHOD:PUBLISH
X-PUBLISHED-TTL:P3D
REFRESH-INTERVAL:P3D
CALSCALE:GREGORIAN
BEGIN:VEVENT
DTSTART:20161123T020000Z
DTEND:20161123T040000Z
X-MICROSOFT-CDO-ALLDAYEVENT:FALSE
SUMMARY:Ed Reinhart at Blue Wing $20 Tuesday
DESCRIPTION:Enjoy live music every Tuesday as background for our $20 three-course dinner special served along with our regular menu   plus wines at $20 a bottle and $5 a glass. Tonight's musical guest is the wonderful entertainer and boogie woogie pianist Ed Reinhart.
X-ALT-DESC;FMTTYPE=text/html:Enjoy live music every Tuesday as background for our $20 three-course dinner special served along with our regular menu &ndash\; plus wines at $20 a bottle and $5 a glass. Tonight&rsquo\;s musical guest is the wonderful entertainer and boogie woogie pianist Ed Reinhart.
LOCATION:Blue Wing Restaurant Upper Lake
UID:e.2411.1850
SEQUENCE:3
DTSTAMP:20260424T224651Z
URL:https://support.lakecochamber.com/events/details/ed-reinhart-at-blue-wing-20-tuesday-1850
END:VEVENT

END:VCALENDAR
