BEGIN:VCALENDAR
VERSION:2.0
PRODID:-//ChamberMaster//Event Calendar 2.0//EN
METHOD:PUBLISH
X-PUBLISHED-TTL:P3D
REFRESH-INTERVAL:P3D
CALSCALE:GREGORIAN
BEGIN:VEVENT
DTSTART:20251122T200000Z
DTEND:20251122T230000Z
X-MICROSOFT-CDO-ALLDAYEVENT:FALSE
SUMMARY:Fall Children's Event
DESCRIPTION:Fall Children's event at the Courthouse Museum 12-3pm November 22nd. Come and Build Your Own Turkey and do Coloring & Glittering Painting. Activities for children of all ages!
X-ALT-DESC;FMTTYPE=text/html:Fall Children&#39\;s event at the Courthouse Museum 12-3pm November 22nd. Come and Build Your Own Turkey and do Coloring &amp\; Glittering Painting. Activities for children of all ages!
LOCATION:Courthouse Museum 255 N. Main St\, Lakeport
UID:e.2411.20255
SEQUENCE:3
DTSTAMP:20260421T084144Z
URL:https://support.lakecochamber.com/events/details/fall-children-s-event-20255
END:VEVENT

END:VCALENDAR
