BEGIN:VCALENDAR
VERSION:2.0
PRODID:-//ChamberMaster//Event Calendar 2.0//EN
METHOD:PUBLISH
X-PUBLISHED-TTL:P3D
REFRESH-INTERVAL:P3D
CALSCALE:GREGORIAN
BEGIN:VEVENT
DTSTART:20221002T170000Z
DTEND:20221002T230000Z
X-MICROSOFT-CDO-ALLDAYEVENT:FALSE
SUMMARY:Falling Leaves Quilt Show
DESCRIPTION:Ladies of the Lake Quilt Guild's Falling Leaves Quilt Show\, at the Lake County Fairgrounds\, 401 Martin St.\, Lakeport\, CA 95453 presents our 20th annual Quilt Show with over 150 quilts\, Silent Auction\, Door Prizes\, Theme Basket raffle\, Country Store\, Vendors\, Scissor Sharpening\, Live Demos\, and an Opportunity Quilt raffle and drawing. Our Guest Speaker is Carrie Fondi of hte Aloha Quilt Shop who specializes in Hawaiian Hand Applique!
X-ALT-DESC;FMTTYPE=text/html:Ladies of the Lake Quilt Guild&#39\;s Falling Leaves Quilt Show\, at the Lake County Fairgrounds\, 401 Martin St.\, Lakeport\, CA 95453 presents our 20th annual Quilt Show with over 150 quilts\, Silent Auction\, Door Prizes\, Theme Basket raffle\, Country Store\, Vendors\, Scissor Sharpening\, Live Demos\, and an Opportunity Quilt raffle and drawing. Our Guest Speaker is Carrie Fondi of hte Aloha Quilt Shop who specializes in Hawaiian Hand Applique!
LOCATION:Lake County Fairgrounds 401 Martin Street Lakeport\, CA 95453
UID:e.2411.15152
SEQUENCE:3
DTSTAMP:20260424T115236Z
URL:https://support.lakecochamber.com/events/details/falling-leaves-quilt-show-10-02-2022-15152
END:VEVENT

END:VCALENDAR
