BEGIN:VCALENDAR
VERSION:2.0
PRODID:-//ChamberMaster//Event Calendar 2.0//EN
METHOD:PUBLISH
X-PUBLISHED-TTL:P3D
REFRESH-INTERVAL:P3D
CALSCALE:GREGORIAN
BEGIN:VEVENT
DTSTART:20241005T170000Z
DTEND:20241006T230000Z
X-MICROSOFT-CDO-ALLDAYEVENT:FALSE
SUMMARY:Falling Leaves Quilt Show
DESCRIPTION:This is a judged open-entry quilt show of 150+ quilts. There will be vendors\, a silent auction\, raffle baskets\, a Country Store\, demonstrations\, and lots of door prizes including a new sewing machine. Our Opportunity Quilt will find a home at the closing of the show. Our featured quilter is a very talented member\, Kerrie Hershey\, who likes traditional patterns\, but uses modern methods.
X-ALT-DESC;FMTTYPE=text/html:This is a judged open-entry quilt show of 150+ quilts. There will be vendors\, a silent auction\, raffle baskets\, a Country Store\, demonstrations\, and lots of door prizes including a new sewing machine. Our Opportunity Quilt will find a home at the closing of the show. Our featured quilter is a very talented member\, Kerrie Hershey\, who likes traditional patterns\, but uses modern methods.
LOCATION:Lake County Fairgrounds\, Lewis Hall 401 Martin Street Lakeport\, CA 95453
UID:e.2411.19620
SEQUENCE:3
DTSTAMP:20260424T212556Z
URL:https://support.lakecochamber.com/events/details/falling-leaves-quilt-show-10-05-2024-19620
END:VEVENT

END:VCALENDAR
