BEGIN:VCALENDAR
VERSION:2.0
PRODID:-//ChamberMaster//Event Calendar 2.0//EN
METHOD:PUBLISH
X-PUBLISHED-TTL:P3D
REFRESH-INTERVAL:P3D
CALSCALE:GREGORIAN
BEGIN:VEVENT
DTSTART:20191207T050000Z
DTEND:20191207T075500Z
X-MICROSOFT-CDO-ALLDAYEVENT:FALSE
SUMMARY:Fargo Brothers
DESCRIPTION:The Fargo Brothers have been burning up stages since 1979! Veterans of well over 4000 live shows from California to the Canadian border\, these four seasoned professionals deliver a brand of roots Rock and Roll with a fire and intensity that only 3 decades together can bring! Known for their vocal harmonies and tight ensemble playing\, The Fargo Brothers always put on a show that is not to be missed! .."We have fun performing and the audience can feel it. Come out and see the show!!"..
X-ALT-DESC;FMTTYPE=text/html:The Fargo Brothers have been burning up stages since 1979! Veterans of well over 4000 live shows from California to the Canadian border\, these four seasoned professionals deliver a brand of roots Rock and Roll with a fire and intensity that only 3 decades together can bring! Known for their vocal harmonies and tight ensemble playing\, The Fargo Brothers always put on a show that is not to be missed! ..&quot\;We have fun performing and the audience can feel it. Come out and see the show!!&quot\;..
LOCATION:Twin Pine Casino & Hotel 22223 Hwy 29 Middletown\, CA. 95461
UID:e.2411.8542
SEQUENCE:3
DTSTAMP:20260425T032023Z
URL:https://support.lakecochamber.com/events/details/fargo-brothers-12-06-2019-8542
END:VEVENT

END:VCALENDAR
