BEGIN:VCALENDAR
VERSION:2.0
PRODID:-//ChamberMaster//Event Calendar 2.0//EN
METHOD:PUBLISH
X-PUBLISHED-TTL:P3D
REFRESH-INTERVAL:P3D
CALSCALE:GREGORIAN
BEGIN:VEVENT
DTSTART:20220416T170000Z
DTEND:20220416T200000Z
X-MICROSOFT-CDO-ALLDAYEVENT:FALSE
SUMMARY:Lake County Farmers' Finest Farmers Market
DESCRIPTION:The Saturday Market at Steele runs year-round and takes place in the front parking lot of the winery at 4350 Thomas Drive\, off HWY 29\, between Lakeport and Kelseyville\, California\n\nOpen from 10 am - 1 pm\, rain or shine!
X-ALT-DESC;FMTTYPE=text/html:<p class="wse-txt-bm" style="box-sizing: border-box\; margin: 0px\; padding: 0px\; font-family: Raleway\; font-size: 16px\; text-shadow: none\; line-height: 1.4\; color: rgb(255\, 242\, 204)\;"><span style="color:#000000\;"><span style="font-size:14px\;"><span style="font-family:arial\;"><span class="wse-txt-inner clr-txt-hexfff2cc fs-18" data-font-size="18" style="box-sizing: border-box\; display: block\; line-height: 0\;"><span class="wse-txt-size" style="box-sizing: border-box\; line-height: 1.4\;"><span class="clr-txt-hexfff2cc" style="box-sizing: border-box\;">The Saturday Market at Steele runs year-round</span>&nbsp\;and takes place in the front parking lot of the winery at 4350 Thomas Drive\, off HWY 29\, between Lakeport and Kelseyville\, California</span></span></span></span></span></p>\n\n<p class="wse-txt-bm" style="box-sizing: border-box\; margin: 0px\; padding: 0px\; font-family: Raleway\; font-size: 16px\; text-shadow: none\; line-height: 1.4\; color: rgb(255\, 242\, 204)\;"><span style="color:#000000\;"><span style="font-size:14px\;"><span style="font-family:arial\;"><span class="wse-txt-inner clr-txt-hexfff2cc fs-18" data-font-size="18" style="box-sizing: border-box\; display: block\; line-height: 0\;"><span class="wse-txt-size" style="box-sizing: border-box\; line-height: 1.4\;">Open from&nbsp\;<span style="box-sizing: border-box\; font-weight: bold\;">10 am - 1 pm\,</span>&nbsp\;rain or shine!</span></span></span></span></span></p>\n
LOCATION:4350 Thomas Dr Kelseyville
UID:e.2411.13169
SEQUENCE:3
DTSTAMP:20260424T000105Z
URL:https://support.lakecochamber.com/events/details/farmers-market-04-16-2022-13169
END:VEVENT

END:VCALENDAR
