BEGIN:VCALENDAR
VERSION:2.0
PRODID:-//ChamberMaster//Event Calendar 2.0//EN
METHOD:PUBLISH
X-PUBLISHED-TTL:P3D
REFRESH-INTERVAL:P3D
CALSCALE:GREGORIAN
BEGIN:VEVENT
DTSTART:20220503T170000Z
DTEND:20220503T200000Z
X-MICROSOFT-CDO-ALLDAYEVENT:FALSE
SUMMARY:Farmers' Market in Library Park
DESCRIPTION:Lake County Farmers' Finest weekly market in Library Park from May through September
X-ALT-DESC;FMTTYPE=text/html:Lake County Farmers&#39\; Finest weekly market in Library Park from May through September
LOCATION:Park Street between 2nd and 3rd\, Lakeport
UID:e.2411.14401
SEQUENCE:3
DTSTAMP:20260424T045826Z
URL:https://support.lakecochamber.com/events/details/farmers-market-in-library-park-14401
END:VEVENT

END:VCALENDAR
