BEGIN:VCALENDAR
VERSION:2.0
PRODID:-//ChamberMaster//Event Calendar 2.0//EN
METHOD:PUBLISH
X-PUBLISHED-TTL:P3D
REFRESH-INTERVAL:P3D
CALSCALE:GREGORIAN
BEGIN:VEVENT
DTSTART:20201004T190000Z
DTEND:20201004T210000Z
X-MICROSOFT-CDO-ALLDAYEVENT:FALSE
SUMMARY:Fiddler's Jam at the Ely
DESCRIPTION:The regular monthly Fiddlers' Jam\, with lively music\, will be held on Sunday\, April 7th from 12 noon to 2 pm in the Barn at the Ely.  Food and beverages will be available for sale.  This month's Raffle Basket theme is April Showers Bring May Flowers.  Included with the basket is a beautiful bouquet from Flowers by Traci of Kelseyville and a Gift Certificate from Kelseyville Lumber\, also of Kelseyville.  \n\n \n\nHundreds of daffodils are blooming.  Come early and enjoy the bright yellow blooms that are scattered over the Museum property\, from the house to the barn.  \n\n \n\nThe Ely Stage Stop & Country Museum is located at 9921 Soda Bay Road\, between Kit's Corner on Hwy 29 and the Riviera. The gates are open every week-end from 11 am to 3pm.  Look for the Museum Flag!
X-ALT-DESC;FMTTYPE=text/html:<span style="font-size:14px\;"><span style="color:#26282A\;"><span style="font-family:helvetica neue\;">The regular monthly Fiddlers&#39\; Jam\, with lively music\, will be held on Sunday\, April 7th from 12 noon to 2 pm in the Barn at the Ely.&nbsp\; Food and beverages will be available for sale.&nbsp\; This month&#39\;s Raffle Basket theme is April Showers Bring May Flowers.&nbsp\; Included with the basket is a beautiful bouquet from Flowers by Traci of Kelseyville and a Gift Certificate from Kelseyville Lumber\, also of Kelseyville.&nbsp\; </span></span><br />\n&nbsp\;<br />\n<span style="color:#26282A\;"><span style="font-family:helvetica neue\;">Hundreds of daffodils are blooming.&nbsp\; Come early and enjoy the bright yellow blooms that are scattered over the Museum property\, from the house to the barn.&nbsp\; </span></span><br />\n&nbsp\;<br />\n<span style="color:#26282A\;"><span style="font-family:helvetica neue\;">The Ely Stage Stop &amp\; Country Museum is located at 9921 Soda Bay Road\, between Kit&#39\;s Corner on Hwy 29 and the Riviera. The gates are open every week-end from 11 am to 3pm.&nbsp\; Look for the Museum Flag!</span></span></span>
LOCATION:Ely Stage Stop & Country Museum 9921 Soda Bay Road\, Kelseyville
UID:e.2411.6640
SEQUENCE:3
DTSTAMP:20260424T105333Z
URL:https://support.lakecochamber.com/events/details/fiddler-s-jam-at-the-ely-10-04-2020-6640
END:VEVENT

END:VCALENDAR
