BEGIN:VCALENDAR
VERSION:2.0
PRODID:-//ChamberMaster//Event Calendar 2.0//EN
METHOD:PUBLISH
X-PUBLISHED-TTL:P3D
REFRESH-INTERVAL:P3D
CALSCALE:GREGORIAN
BEGIN:VEVENT
DTSTART:20190901T190000Z
DTEND:20190901T210000Z
X-MICROSOFT-CDO-ALLDAYEVENT:FALSE
SUMMARY:Fiddlers' Jam at the Ely Stage Stop
DESCRIPTION:The regular monthly Fiddlers' Jam\, with lively music\, will be held this Sunday from 12 noon to 2 pm in the Barn at the Ely.  Food and beverages will be available for sale.  \n\n\n\nThis month's Raffle Basket honors the Lake County Fair and Pears. Fresh flowers from Flowers by Traci will also be raffled.\n\n\n\nThe Ely Stage Stop & Country Museum is located at 9921 Soda Bay Road\, between Kit's Corner on Hwy 29 and the Riviera. The gates are open every week-end from 11 am to 3pm.  Look for the Museum Flag!
X-ALT-DESC;FMTTYPE=text/html:<span style="color:#26282A\;">The regular monthly Fiddlers&#39\; Jam\, with lively music\, will be held this Sunday from 12 noon to 2 pm in the Barn at the Ely.&nbsp\; Food and beverages will be available for sale.&nbsp\; </span><br />\n<br />\nThis month&rsquo\;s Raffle Basket honors the Lake County Fair and Pears. Fresh flowers from Flowers by Traci will also be raffled.<br />\n<br />\n<span style="color:#26282A\;">The Ely Stage Stop &amp\; Country Museum is located at 9921 Soda Bay Road\, between Kit&#39\;s Corner on Hwy 29 and the Riviera. The gates are open every week-end from 11 am to 3pm.&nbsp\; Look for the Museum Flag!</span>
LOCATION:Ely Stage Stop & Country Museum 9921 Soda Bay Road\, Kelseyville
UID:e.2411.6627
SEQUENCE:3
DTSTAMP:20260424T001428Z
URL:https://support.lakecochamber.com/events/details/fiddlers-jam-at-the-ely-stage-stop-6627
END:VEVENT

END:VCALENDAR
