BEGIN:VCALENDAR
VERSION:2.0
PRODID:-//ChamberMaster//Event Calendar 2.0//EN
METHOD:PUBLISH
X-PUBLISHED-TTL:P3D
REFRESH-INTERVAL:P3D
CALSCALE:GREGORIAN
BEGIN:VEVENT
DTSTART:20220604T003000Z
DTEND:20220604T020000Z
X-MICROSOFT-CDO-ALLDAYEVENT:FALSE
SUMMARY:First Friday Fling
DESCRIPTION:After two years of Covid restrictions\, the First Friday Fling is back at The Main Street Gallery. Meet the artists and see the new look at the gallery. Music by guitarist Travis Rinker and wines from the Cache Creek Vineyards will be available. First Friday Fling will be on June 3rd from 5:30 to 7:00 at 325 N. Main St. in Lakeport and is a free event for Lake County.
X-ALT-DESC;FMTTYPE=text/html:After two years of Covid restrictions\, the First Friday Fling is back at The Main Street Gallery. Meet the artists and see the new look at the gallery. Music by guitarist Travis Rinker and wines from the Cache Creek Vineyards will be available. First Friday Fling will be on June 3rd from 5:30 to 7:00 at 325 N. Main St. in Lakeport and is a free event for Lake County.
LOCATION:325 N. Main Street Lakeport
UID:e.2411.14672
SEQUENCE:3
DTSTAMP:20260423T184853Z
URL:https://support.lakecochamber.com/events/details/first-friday-fling-06-03-2022-14672
END:VEVENT

END:VCALENDAR
